BEGIN:VCALENDAR
VERSION:2.0
PRODID:-//Runaway Bay Seagulls - ECPv4.6.6//NONSGML v1.0//EN
CALSCALE:GREGORIAN
METHOD:PUBLISH
X-WR-CALNAME:Runaway Bay Seagulls
X-ORIGINAL-URL:http://www.bayjuniors.com.au
X-WR-CALDESC:Events for Runaway Bay Seagulls
BEGIN:VEVENT
DTSTART;TZID=UTC+0:20180217T150000
DTEND;TZID=UTC+0:20180217T180000
DTSTAMP:20180225T132627
CREATED:20171221T083931Z
LAST-MODIFIED:20171221T083931Z
UID:5287-1518879600-1518890400@www.bayjuniors.com.au
SUMMARY:Open Day 2018
DESCRIPTION:Come and meet the coaches and join in on a training session\n\nFun activities on the day\n\nSign on and register if you need to.\n
URL:http://www.bayjuniors.com.au/event/open-day-2018/
LOCATION:225 Morala Ave\, Runaway Bay\, Queensland\, 4216\, Australia
END:VEVENT
BEGIN:VEVENT
DTSTART;TZID=UTC+0:20180220T180000
DTEND;TZID=UTC+0:20180220T190000
DTSTAMP:20180225T132627
CREATED:20180206T093830Z
LAST-MODIFIED:20180206T093830Z
UID:5327-1519149600-1519153200@www.bayjuniors.com.au
SUMMARY:Committee Meeting
DESCRIPTION:The next committee meeting on Tuesday 20th of February 2018 at 6pm \nEveryone welcome\n
URL:http://www.bayjuniors.com.au/event/committee-meeting/
LOCATION:225 Morala Ave\, Runaway Bay\, Queensland\, 4216\, Australia
END:VEVENT
BEGIN:VEVENT
DTSTART;VALUE=DATE:20180301
DTEND;VALUE=DATE:20180304
DTSTAMP:20180225T132627
CREATED:20171117T102610Z
LAST-MODIFIED:20171122T053053Z
UID:5213-1519862400-1520121599@www.bayjuniors.com.au
SUMMARY:Masters
DESCRIPTION:Registration Day 28th February \nGames Day 1st to 3rd March \n
URL:http://www.bayjuniors.com.au/event/masters/
LOCATION:Queensland
END:VEVENT
END:VCALENDAR